BEGIN:VCALENDAR
VERSION:2.0
PRODID:-//hacksw/handcal//NONSGML v1.0//EN
CALSCALE:GREGORIAN
BEGIN:VEVENT
LOCATION:Olot
DESCRIPTION:
DTSTART:20240125T070000Z
DTEND:20240421T120000Z
SUMMARY:Exposició 'Obres guardonades i seleccionades dels Premis d'Arquitectura de les Comarques de Girona 2023'
URL;VALUE=URI:https://arquitectes.cat/ca/content/exposici%C3%B3-obres-guardonades-i-seleccionades-dels-premis-darquitectura-de-les-comarques-de-0
DTSTAMP:20260426T054111Z
UID:69ed89575954a
END:VEVENT
END:VCALENDAR