BEGIN:VCALENDAR
VERSION:2.0
PRODID:-//hacksw/handcal//NONSGML v1.0//EN
CALSCALE:GREGORIAN
BEGIN:VEVENT
LOCATION:Tarragona
DESCRIPTION:
DTSTART:20240319T170000Z
DTEND:20240319T170000Z
SUMMARY:fets urbans - Presentation of the Architecture Guide of Reus
URL;VALUE=URI:https://arquitectes.cat/ca/node/39831
DTSTAMP:20260419T223748Z
UID:69e53d1c707f2
END:VEVENT
END:VCALENDAR