BEGIN:VCALENDAR
VERSION:2.0
PRODID:-//hacksw/handcal//NONSGML v1.0//EN
CALSCALE:GREGORIAN
BEGIN:VEVENT
LOCATION:Tarragona
DESCRIPTION:
DTSTART:20240307T170000Z
DTEND:20240307T170000Z
SUMMARY:Avantguarda | [C] Conference | Takk · 'Architecture and co-existence'
URL;VALUE=URI:https://arquitectes.cat/ca/node/39774
DTSTAMP:20260419T193629Z
UID:69e5129d5a5ba
END:VEVENT
END:VCALENDAR