BEGIN:VCALENDAR
VERSION:2.0
PRODID:-//hacksw/handcal//NONSGML v1.0//EN
CALSCALE:GREGORIAN
BEGIN:VEVENT
LOCATION:En línia
DESCRIPTION:
DTSTART:20240304T150000Z
DTEND:20240304T150000Z
SUMMARY:SESSIÓ SERT: PROTECCIÓ CONTRA INCENDIS. ENTENDRE LA NORMATIVA
URL;VALUE=URI:https://arquitectes.cat/ca/content/sessi%C3%B3-sert-protecci%C3%B3-contra-incendis-entendre-la-normativa
DTSTAMP:20260419T173635Z
UID:69e4f6838f351
END:VEVENT
END:VCALENDAR