BEGIN:VCALENDAR
VERSION:2.0
PRODID:-//hacksw/handcal//NONSGML v1.0//EN
CALSCALE:GREGORIAN
BEGIN:VEVENT
LOCATION:Barcelona
DESCRIPTION:
DTSTART:20240223T180000Z
DTEND:20240225T180000Z
SUMMARY:CCCB 30 años. Fin de semana de música\, instalaciones y puertas abiertas-
URL;VALUE=URI:https://arquitectes.cat/ca/node/39695
DTSTAMP:20260425T002022Z
UID:69ebeca672235
END:VEVENT
END:VCALENDAR