BEGIN:VCALENDAR
VERSION:2.0
PRODID:-//hacksw/handcal//NONSGML v1.0//EN
CALSCALE:GREGORIAN
BEGIN:VEVENT
LOCATION:Barcelona
DESCRIPTION:
DTSTART:20240215T170000Z
DTEND:20240215T170000Z
SUMMARY:Future Homes. Los hogares de hoy y mañana
URL;VALUE=URI:https://arquitectes.cat/ca/node/39666
DTSTAMP:20260422T093150Z
UID:69e87966c0365
END:VEVENT
END:VCALENDAR