BEGIN:VCALENDAR
VERSION:2.0
PRODID:-//hacksw/handcal//NONSGML v1.0//EN
CALSCALE:GREGORIAN
BEGIN:VEVENT
LOCATION:Olot
DESCRIPTION:
DTSTART:20240321T160000Z
DTEND:20240321T160000Z
SUMMARY:Topos\, l’arquitectura del lloc
URL;VALUE=URI:https://arquitectes.cat/ca/content/topos-l%E2%80%99arquitectura-del-lloc
DTSTAMP:20260420T001013Z
UID:69e552c5dc78f
END:VEVENT
END:VCALENDAR