BEGIN:VCALENDAR
VERSION:2.0
PRODID:-//hacksw/handcal//NONSGML v1.0//EN
CALSCALE:GREGORIAN
BEGIN:VEVENT
LOCATION:Barcelona
DESCRIPTION:
DTSTART:20240118T140000Z
DTEND:20240118T140000Z
SUMMARY:Seminari "Barcelona. La ciutat de la Primera República"\, a MUHBA Pl. del Rei
URL;VALUE=URI:https://arquitectes.cat/ca/content/seminari-barcelona-la-ciutat-de-la-primera-rep%C3%BAblica-muhba-pl-del-rei
DTSTAMP:20260419T155905Z
UID:69e4dfa9c3f28
END:VEVENT
END:VCALENDAR