BEGIN:VCALENDAR
VERSION:2.0
PRODID:-//hacksw/handcal//NONSGML v1.0//EN
CALSCALE:GREGORIAN
BEGIN:VEVENT
LOCATION:Barcelona
DESCRIPTION:
DTSTART:20240125T163000Z
DTEND:20240125T163000Z
SUMMARY:Remors del nou Brasil al cor de la vella Barcelona: Xavier Busquets i els frisos de Picasso per a la seu del Col·legi
URL;VALUE=URI:https://arquitectes.cat/ca/content/remors-del-nou-brasil-al-cor-de-la-vella-barcelona-xavier-busquets-i-els-frisos-de-picasso
DTSTAMP:20260425T140810Z
UID:69ecaeaadc859
END:VEVENT
END:VCALENDAR