BEGIN:VCALENDAR
VERSION:2.0
PRODID:-//hacksw/handcal//NONSGML v1.0//EN
CALSCALE:GREGORIAN
BEGIN:VEVENT
LOCATION:Barcelona
DESCRIPTION:
DTSTART:20231215T173000Z
DTEND:20231215T173000Z
SUMMARY:Projecció de 'Il Gattopardo'
URL;VALUE=URI:https://arquitectes.cat/ca/content/projecci%C3%B3-de-il-gattopardo
DTSTAMP:20260424T054441Z
UID:69eae7297f5ce
END:VEVENT
END:VCALENDAR