BEGIN:VCALENDAR
VERSION:2.0
PRODID:-//hacksw/handcal//NONSGML v1.0//EN
CALSCALE:GREGORIAN
BEGIN:VEVENT
LOCATION:Barcelona
DESCRIPTION:
DTSTART:20240121T090000Z
DTEND:20241229T090000Z
SUMMARY:Visit the Mirador CCCB.  And enjoy the views of the city
URL;VALUE=URI:https://arquitectes.cat/ca/node/39551
DTSTAMP:20260420T053306Z
UID:69e59e72cd72e
END:VEVENT
END:VCALENDAR