BEGIN:VCALENDAR
VERSION:2.0
PRODID:-//hacksw/handcal//NONSGML v1.0//EN
CALSCALE:GREGORIAN
BEGIN:VEVENT
LOCATION:Barcelona
DESCRIPTION:
DTSTART:20240118T080000Z
DTEND:20240218T130000Z
SUMMARY:Exposició: Love is in the Aid. 30 anys d'Arquitectura Sense Fronteres
URL;VALUE=URI:https://arquitectes.cat/ca/content/exposici%C3%B3-love-aid-30-anys-darquitectura-sense-fronteres
DTSTAMP:20260419T161118Z
UID:69e4e286e3b86
END:VEVENT
END:VCALENDAR