BEGIN:VCALENDAR
VERSION:2.0
PRODID:-//hacksw/handcal//NONSGML v1.0//EN
CALSCALE:GREGORIAN
BEGIN:VEVENT
LOCATION:Barcelona
DESCRIPTION:
DTSTART:20231214T093000Z
DTEND:20231217T093000Z
SUMMARY:Elias Rogent i Amat\, protagonista del XLVI Curset de Patrimoni de l'AADIPA
URL;VALUE=URI:https://arquitectes.cat/ca/content/elias-rogent-i-amat-protagonista-del-xlvi-curset-de-patrimoni-de-laadipa
DTSTAMP:20260426T061933Z
UID:69ed925580a46
END:VEVENT
END:VCALENDAR