BEGIN:VCALENDAR
VERSION:2.0
PRODID:-//hacksw/handcal//NONSGML v1.0//EN
CALSCALE:GREGORIAN
BEGIN:VEVENT
LOCATION:Barcelona
DESCRIPTION:
DTSTART:20231213T173000Z
DTEND:20231213T173000Z
SUMMARY:Aparador de Nadal a MINIM Barcelona\, dissenyat pels guanyadors dels XXXV Premis Habitàcola
URL;VALUE=URI:https://arquitectes.cat/ca/content/aparador-de-nadal-minim-barcelona-dissenyat-pels-guanyadors-dels-xxxv-premis-habit%C3%A0cola
DTSTAMP:20260420T010304Z
UID:69e55f2862d44
END:VEVENT
END:VCALENDAR