BEGIN:VCALENDAR
VERSION:2.0
PRODID:-//hacksw/handcal//NONSGML v1.0//EN
CALSCALE:GREGORIAN
BEGIN:VEVENT
LOCATION:Barcelona
DESCRIPTION:
DTSTART:20231223T090000Z
DTEND:20231223T090000Z
SUMMARY:Taller infantil: Refugis Urbans
URL;VALUE=URI:https://arquitectes.cat/ca/content/taller-infantil-refugis-urbans
DTSTAMP:20260424T220104Z
UID:69ebcc00189c0
END:VEVENT
END:VCALENDAR