BEGIN:VCALENDAR
VERSION:2.0
PRODID:-//hacksw/handcal//NONSGML v1.0//EN
CALSCALE:GREGORIAN
BEGIN:VEVENT
LOCATION:Tarragona
DESCRIPTION:
DTSTART:20231212T170000Z
DTEND:20231212T170000Z
SUMMARY:Domesticar la casa i el carrer - Conferència de Cierto Estudio
URL;VALUE=URI:https://arquitectes.cat/ca/content/domesticar-la-casa-i-el-carrer-confer%C3%A8ncia-de-cierto-estudio
DTSTAMP:20260419T160056Z
UID:69e4e01893e70
END:VEVENT
END:VCALENDAR