BEGIN:VCALENDAR
VERSION:2.0
PRODID:-//hacksw/handcal//NONSGML v1.0//EN
CALSCALE:GREGORIAN
BEGIN:VEVENT
LOCATION:Barcelona
DESCRIPTION:
DTSTART:20231214T170000Z
DTEND:20231214T170000Z
SUMMARY:Seminari de Patrimoni Sacre. Fundació Joan Maragall 
URL;VALUE=URI:https://arquitectes.cat/ca/content/seminari-de-patrimoni-sacre-fundaci%C3%B3-joan-maragall
DTSTAMP:20260423T093910Z
UID:69e9cc9e6cc26
END:VEVENT
END:VCALENDAR