BEGIN:VCALENDAR
VERSION:2.0
PRODID:-//hacksw/handcal//NONSGML v1.0//EN
CALSCALE:GREGORIAN
BEGIN:VEVENT
LOCATION:Olot
DESCRIPTION:
DTSTART:20231201T170000Z
DTEND:20231201T170000Z
SUMMARY:Conferència 'Els tossols de Bosc de Tosca'
URL;VALUE=URI:https://arquitectes.cat/ca/content/confer%C3%A8ncia-els-tossols-de-bosc-de-tosca
DTSTAMP:20260426T050717Z
UID:69ed8165a719c
END:VEVENT
END:VCALENDAR