BEGIN:VCALENDAR
VERSION:2.0
PRODID:-//hacksw/handcal//NONSGML v1.0//EN
CALSCALE:GREGORIAN
BEGIN:VEVENT
LOCATION:Barcelona
DESCRIPTION:
DTSTART:20231127T160000Z
DTEND:20231127T160000Z
SUMMARY:CulturTalks _ Toni Cumella / Cumella and Architecture
URL;VALUE=URI:https://arquitectes.cat/ca/content/culturtalks-toni-cumella-cumella-and-architecture
DTSTAMP:20260420T054854Z
UID:69e5a226268b9
END:VEVENT
END:VCALENDAR