BEGIN:VCALENDAR
VERSION:2.0
PRODID:-//hacksw/handcal//NONSGML v1.0//EN
CALSCALE:GREGORIAN
BEGIN:VEVENT
LOCATION:Barcelona
DESCRIPTION:
DTSTART:20231115T170000Z
DTEND:20231115T170000Z
SUMMARY:Relectures Miró-Picasso: «Llibres il·lustrats» amb Juan José Lahuerta
URL;VALUE=URI:https://arquitectes.cat/ca/content/relectures-mir%C3%B3-picasso-%C2%ABllibres-il%C2%B7lustrats%C2%BB-amb-juan-jos%C3%A9-lahuerta
DTSTAMP:20260425T181823Z
UID:69ece94f54f37
END:VEVENT
END:VCALENDAR