BEGIN:VCALENDAR
VERSION:2.0
PRODID:-//hacksw/handcal//NONSGML v1.0//EN
CALSCALE:GREGORIAN
BEGIN:VEVENT
LOCATION:Tarragona
DESCRIPTION:
DTSTART:20231116T110000Z
DTEND:20231116T110000Z
SUMMARY:Presentació Le Chic
URL;VALUE=URI:https://arquitectes.cat/ca/content/presentaci%C3%B3-le-chic
DTSTAMP:20260420T054941Z
UID:69e5a2559ba2f
END:VEVENT
END:VCALENDAR