BEGIN:VCALENDAR
VERSION:2.0
PRODID:-//hacksw/handcal//NONSGML v1.0//EN
CALSCALE:GREGORIAN
BEGIN:VEVENT
LOCATION:Girona
DESCRIPTION:
DTSTART:20231024T101500Z
DTEND:20231024T101500Z
SUMMARY:SAC. Visita a l’edifici de l’antic Banc d’Espanya de Girona
URL;VALUE=URI:https://arquitectes.cat/ca/content/sac-visita-l%E2%80%99edifici-de-l%E2%80%99antic-banc-d%E2%80%99espanya-de-girona
DTSTAMP:20260419T173753Z
UID:69e4f6d1d5efb
END:VEVENT
END:VCALENDAR