BEGIN:VCALENDAR
VERSION:2.0
PRODID:-//hacksw/handcal//NONSGML v1.0//EN
CALSCALE:GREGORIAN
BEGIN:VEVENT
LOCATION:Girona
DESCRIPTION:
DTSTART:20231024T080000Z
DTEND:20231024T080000Z
SUMMARY:SAC. Visita a l’edifici de la Biblioteca Carles Rahola de Girona
URL;VALUE=URI:https://arquitectes.cat/ca/content/sac-visita-l%E2%80%99edifici-de-la-biblioteca-carles-rahola-de-girona
DTSTAMP:20260425T040039Z
UID:69ec20476a3de
END:VEVENT
END:VCALENDAR