BEGIN:VCALENDAR
VERSION:2.0
PRODID:-//hacksw/handcal//NONSGML v1.0//EN
CALSCALE:GREGORIAN
BEGIN:VEVENT
LOCATION:Barcelona
DESCRIPTION:
DTSTART:20231027T160000Z
DTEND:20231027T160000Z
SUMMARY:Presentació del llibre "Petita Història del COAC"
URL;VALUE=URI:https://arquitectes.cat/ca/content/presentaci%C3%B3-del-llibre-petita-hist%C3%B2ria-del-coac
DTSTAMP:20260426T051221Z
UID:69ed8295559f4
END:VEVENT
END:VCALENDAR