BEGIN:VCALENDAR
VERSION:2.0
PRODID:-//hacksw/handcal//NONSGML v1.0//EN
CALSCALE:GREGORIAN
BEGIN:VEVENT
LOCATION:Barcelona
DESCRIPTION:
DTSTART:20231102T170000Z
DTEND:20231102T170000Z
SUMMARY:Tertúlia "Comunicació de l'arquitectura: La construcció de la imatge corporativa"
URL;VALUE=URI:https://arquitectes.cat/ca/content/tert%C3%BAlia-comunicaci%C3%B3-de-larquitectura-la-construcci%C3%B3-de-la-imatge-corporativa
DTSTAMP:20260419T225709Z
UID:69e541a5d5a4c
END:VEVENT
END:VCALENDAR