BEGIN:VCALENDAR
VERSION:2.0
PRODID:-//hacksw/handcal//NONSGML v1.0//EN
CALSCALE:GREGORIAN
BEGIN:VEVENT
LOCATION:Barcelona
DESCRIPTION:
DTSTART:20231020T170000Z
DTEND:20231020T170000Z
SUMMARY:«XL»\, conferència de l'arquitecte Joan Roig
URL;VALUE=URI:https://arquitectes.cat/ca/content/%C2%ABxl%C2%BB-confer%C3%A8ncia-de-larquitecte-joan-roig
DTSTAMP:20260419T142701Z
UID:69e4ca15c0cdc
END:VEVENT
END:VCALENDAR