BEGIN:VCALENDAR
VERSION:2.0
PRODID:-//hacksw/handcal//NONSGML v1.0//EN
CALSCALE:GREGORIAN
BEGIN:VEVENT
LOCATION:Barcelona
DESCRIPTION:
DTSTART:20231023T170000Z
DTEND:20231023T170000Z
SUMMARY:Future-A presenta el Design Trends Report 24/25
URL;VALUE=URI:https://arquitectes.cat/ca/content/future-presenta-el-design-trends-report-2425
DTSTAMP:20260419T172840Z
UID:69e4f4a84c9ff
END:VEVENT
END:VCALENDAR