BEGIN:VCALENDAR
VERSION:2.0
PRODID:-//hacksw/handcal//NONSGML v1.0//EN
CALSCALE:GREGORIAN
BEGIN:VEVENT
LOCATION:Barcelona
DESCRIPTION:
DTSTART:20231018T170000Z
DTEND:20231018T170000Z
SUMMARY:Opening Barcelona Design Week 2023
URL;VALUE=URI:https://arquitectes.cat/ca/content/opening-barcelona-design-week-2023
DTSTAMP:20260419T163835Z
UID:69e4e8eb92ce7
END:VEVENT
END:VCALENDAR