BEGIN:VCALENDAR
VERSION:2.0
PRODID:-//hacksw/handcal//NONSGML v1.0//EN
CALSCALE:GREGORIAN
BEGIN:VEVENT
LOCATION:Barcelona
DESCRIPTION:
DTSTART:20231017T160000Z
DTEND:20231017T160000Z
SUMMARY:AI VISIONS. Inteligencia Artificial a debate
URL;VALUE=URI:https://arquitectes.cat/ca/node/39324
DTSTAMP:20260423T071201Z
UID:69e9aa21bce26
END:VEVENT
END:VCALENDAR