BEGIN:VCALENDAR
VERSION:2.0
PRODID:-//hacksw/handcal//NONSGML v1.0//EN
CALSCALE:GREGORIAN
BEGIN:VEVENT
LOCATION:Barcelona
DESCRIPTION:
DTSTART:20231003T170000Z
DTEND:20231003T170000Z
SUMMARY:Conferència inaugural del curs Relats Urbans 2023-2024. «Museus en la construcció d’una Europa democràtica»\,  a càrrec de Josep Ramoneda
URL;VALUE=URI:https://arquitectes.cat/ca/content/confer%C3%A8ncia-inaugural-del-curs-relats-urbans-2023-2024-%C2%ABmuseus-en-la-construcci%C3%B3-d%E2%80%99una
DTSTAMP:20260423T001742Z
UID:69e94906c7e36
END:VEVENT
END:VCALENDAR