BEGIN:VCALENDAR
VERSION:2.0
PRODID:-//hacksw/handcal//NONSGML v1.0//EN
CALSCALE:GREGORIAN
BEGIN:VEVENT
LOCATION:Barcelona
DESCRIPTION:
DTSTART:20231110T090000Z
DTEND:20231217T180000Z
SUMMARY:World Press Photo 2023. Mostra internacional de fotoperiodisme
URL;VALUE=URI:https://arquitectes.cat/ca/content/world-press-photo-2023-mostra-internacional-de-fotoperiodisme
DTSTAMP:20260422T015624Z
UID:69e80ea8ea122
END:VEVENT
END:VCALENDAR