BEGIN:VCALENDAR
VERSION:2.0
PRODID:-//hacksw/handcal//NONSGML v1.0//EN
CALSCALE:GREGORIAN
BEGIN:VEVENT
LOCATION:Barcelona
DESCRIPTION:
DTSTART:20230921T140000Z
DTEND:20230921T140000Z
SUMMARY:Seminari. En el centenari: el pes de Barcelona al cop d’estat de Primo de Rivera. MUHBA Pl. del Rei
URL;VALUE=URI:https://arquitectes.cat/ca/content/seminari-en-el-centenari-el-pes-de-barcelona-al-cop-d%E2%80%99estat-de-primo-de-rivera-muhba-pl-del
DTSTAMP:20260419T211722Z
UID:69e52a42f1adc
END:VEVENT
END:VCALENDAR