BEGIN:VCALENDAR
VERSION:2.0
PRODID:-//hacksw/handcal//NONSGML v1.0//EN
CALSCALE:GREGORIAN
BEGIN:VEVENT
LOCATION:Barcelona
DESCRIPTION:
DTSTART:20231022T090000Z
DTEND:20231022T090000Z
SUMMARY:Taller "Mira\, guixa\, crea"
URL;VALUE=URI:https://arquitectes.cat/ca/content/taller-mira-guixa-crea-1
DTSTAMP:20260424T224928Z
UID:69ebd75815b21
END:VEVENT
END:VCALENDAR