BEGIN:VCALENDAR
VERSION:2.0
PRODID:-//hacksw/handcal//NONSGML v1.0//EN
CALSCALE:GREGORIAN
BEGIN:VEVENT
LOCATION:Tarragona
DESCRIPTION:
DTSTART:20230914T170000Z
DTEND:20230914T170000Z
SUMMARY:Parc del Port
URL;VALUE=URI:https://arquitectes.cat/ca/content/parc-del-port
DTSTAMP:20260425T124202Z
UID:69ec9a7acc417
END:VEVENT
END:VCALENDAR