BEGIN:VCALENDAR
VERSION:2.0
PRODID:-//hacksw/handcal//NONSGML v1.0//EN
CALSCALE:GREGORIAN
BEGIN:VEVENT
LOCATION:Figueres
DESCRIPTION:
DTSTART:20230915T170000Z
DTEND:20230915T170000Z
SUMMARY:Taller de bones pràctiques d'arquitectura sobre la ciutat de Figueres: edificis d'equipaments i serveis
URL;VALUE=URI:https://arquitectes.cat/ca/content/taller-de-bones-pr%C3%A0ctiques-darquitectura-sobre-la-ciutat-de-figueres-edificis-dequipaments-i
DTSTAMP:20260419T174746Z
UID:69e4f922344c1
END:VEVENT
END:VCALENDAR