BEGIN:VCALENDAR
VERSION:2.0
PRODID:-//hacksw/handcal//NONSGML v1.0//EN
CALSCALE:GREGORIAN
BEGIN:VEVENT
LOCATION:Figueres
DESCRIPTION:
DTSTART:20230915T170000Z
DTEND:20230915T170000Z
SUMMARY:Taller de buenas prácticas de arquitectura sobre la ciudad de Figueres: edificios de equipamientos y servicios
URL;VALUE=URI:https://arquitectes.cat/ca/node/39240
DTSTAMP:20260419T142850Z
UID:69e4ca82e8908
END:VEVENT
END:VCALENDAR