BEGIN:VCALENDAR
VERSION:2.0
PRODID:-//hacksw/handcal//NONSGML v1.0//EN
CALSCALE:GREGORIAN
BEGIN:VEVENT
LOCATION:Barcelona
DESCRIPTION:
DTSTART:20231017T100000Z
DTEND:20231017T100000Z
SUMMARY:Jornada Tècnica Olivari. 100 anys de l'Arquitectura al Disseny
URL;VALUE=URI:https://arquitectes.cat/ca/content/jornada-t%C3%A8cnica-olivari-100-anys-de-larquitectura-al-disseny
DTSTAMP:20260425T161015Z
UID:69eccb478c340
END:VEVENT
END:VCALENDAR