BEGIN:VCALENDAR
VERSION:2.0
PRODID:-//hacksw/handcal//NONSGML v1.0//EN
CALSCALE:GREGORIAN
BEGIN:VEVENT
LOCATION:Tarragona
DESCRIPTION:
DTSTART:20230801T060000Z
DTEND:20230929T130000Z
SUMMARY:Exposició "Parc del Port"
URL;VALUE=URI:https://arquitectes.cat/ca/content/exposici%C3%B3-parc-del-port
DTSTAMP:20260419T193625Z
UID:69e5129998371
END:VEVENT
END:VCALENDAR