BEGIN:VCALENDAR
VERSION:2.0
PRODID:-//hacksw/handcal//NONSGML v1.0//EN
CALSCALE:GREGORIAN
BEGIN:VEVENT
LOCATION:Barcelona
DESCRIPTION:
DTSTART:20230920T163000Z
DTEND:20230920T163000Z
SUMMARY:Visita comentada amb David Bestué a 'Ciutat de Sorra'
URL;VALUE=URI:https://arquitectes.cat/ca/content/visita-comentada-amb-david-bestu%C3%A9-ciutat-de-sorra
DTSTAMP:20260422T205416Z
UID:69e9195876fbf
END:VEVENT
END:VCALENDAR