BEGIN:VCALENDAR
VERSION:2.0
PRODID:-//hacksw/handcal//NONSGML v1.0//EN
CALSCALE:GREGORIAN
BEGIN:VEVENT
LOCATION:Barcelona
DESCRIPTION:
DTSTART:20230703T170000Z
DTEND:20230723T180000Z
SUMMARY:The Cost of Money: Raft | Mark Cottle
URL;VALUE=URI:https://arquitectes.cat/ca/node/39111
DTSTAMP:20260426T051111Z
UID:69ed824f86621
END:VEVENT
END:VCALENDAR