BEGIN:VCALENDAR
VERSION:2.0
PRODID:-//hacksw/handcal//NONSGML v1.0//EN
CALSCALE:GREGORIAN
BEGIN:VEVENT
LOCATION:Barcelona
DESCRIPTION:
DTSTART:20230622T170000Z
DTEND:20230917T130000Z
SUMMARY:EL LEGADO DE DOMÈNECH I MONTANER
URL;VALUE=URI:https://arquitectes.cat/ca/node/39086
DTSTAMP:20260419T181147Z
UID:69e4fec3a831e
END:VEVENT
END:VCALENDAR