BEGIN:VCALENDAR
VERSION:2.0
PRODID:-//hacksw/handcal//NONSGML v1.0//EN
CALSCALE:GREGORIAN
BEGIN:VEVENT
LOCATION:Barcelona
DESCRIPTION:
DTSTART:20230701T150000Z
DTEND:20230701T150000Z
SUMMARY:Visita comentada a l’exposició ‘Després de la boira\, primeres flors”
URL;VALUE=URI:https://arquitectes.cat/ca/content/visita-comentada-l%E2%80%99exposici%C3%B3-%E2%80%98despr%C3%A9s-de-la-boira-primeres-flors%E2%80%9D
DTSTAMP:20260419T174312Z
UID:69e4f810a0037
END:VEVENT
END:VCALENDAR