BEGIN:VCALENDAR
VERSION:2.0
PRODID:-//hacksw/handcal//NONSGML v1.0//EN
CALSCALE:GREGORIAN
BEGIN:VEVENT
LOCATION:Barcelona
DESCRIPTION:
DTSTART:20230620T170000Z
DTEND:20230620T170000Z
SUMMARY:Arquitectura Música. Músicxs arquitectxs. Aprender | Enseñar
URL;VALUE=URI:https://arquitectes.cat/ca/content/arquitectura-m%C3%BAsica-m%C3%BAsicxs-arquitectxs-aprender-ense%C3%B1ar
DTSTAMP:20260425T132019Z
UID:69eca37365cdd
END:VEVENT
END:VCALENDAR