BEGIN:VCALENDAR
VERSION:2.0
PRODID:-//hacksw/handcal//NONSGML v1.0//EN
CALSCALE:GREGORIAN
BEGIN:VEVENT
LOCATION:Girona
DESCRIPTION:
DTSTART:20230602T173000Z
DTEND:20230911T143000Z
SUMMARY:Exposición ‘Obras premiadas y seleccionadas 2023 de los Premios de Arquitectura de las Comarcas de Girona’
URL;VALUE=URI:https://arquitectes.cat/ca/node/39003
DTSTAMP:20260420T035610Z
UID:69e587ba603f8
END:VEVENT
END:VCALENDAR