BEGIN:VCALENDAR
VERSION:2.0
PRODID:-//hacksw/handcal//NONSGML v1.0//EN
CALSCALE:GREGORIAN
BEGIN:VEVENT
LOCATION:Tarragona
DESCRIPTION:
DTSTART:20230601T060000Z
DTEND:20230725T130000Z
SUMMARY:Exposició "El material de lo construido"
URL;VALUE=URI:https://arquitectes.cat/ca/content/exposici%C3%B3-el-material-de-lo-construido
DTSTAMP:20260419T205018Z
UID:69e523ea45555
END:VEVENT
END:VCALENDAR