BEGIN:VCALENDAR
VERSION:2.0
PRODID:-//hacksw/handcal//NONSGML v1.0//EN
CALSCALE:GREGORIAN
BEGIN:VEVENT
LOCATION:Barcelona
DESCRIPTION:
DTSTART:20230615T170000Z
DTEND:20230615T170000Z
SUMMARY:Presentació del llibre "Ética para desconfiados"
URL;VALUE=URI:https://arquitectes.cat/ca/content/presentaci%C3%B3-del-llibre-%C3%A9tica-para-desconfiados
DTSTAMP:20260419T234945Z
UID:69e54df933105
END:VEVENT
END:VCALENDAR