BEGIN:VCALENDAR
VERSION:2.0
PRODID:-//hacksw/handcal//NONSGML v1.0//EN
CALSCALE:GREGORIAN
BEGIN:VEVENT
LOCATION:Barcelona
DESCRIPTION:
DTSTART:20230606T160000Z
DTEND:20230606T160000Z
SUMMARY:Les Dones Fem: Conferència de Gabriela de Matos\, arquitecta
URL;VALUE=URI:https://arquitectes.cat/ca/content/les-dones-fem-confer%C3%A8ncia-de-gabriela-de-matos-arquitecta
DTSTAMP:20260419T150520Z
UID:69e4d310e4ca6
END:VEVENT
END:VCALENDAR