BEGIN:VCALENDAR
VERSION:2.0
PRODID:-//hacksw/handcal//NONSGML v1.0//EN
CALSCALE:GREGORIAN
BEGIN:VEVENT
LOCATION:Barcelona
DESCRIPTION:
DTSTART:20230518T090000Z
DTEND:20230925T173000Z
SUMMARY:Exposició: Laura Lima. Balé Literal
URL;VALUE=URI:https://arquitectes.cat/ca/content/exposici%C3%B3-laura-lima-bal%C3%A9-literal
DTSTAMP:20260419T215848Z
UID:69e533f84efd1
END:VEVENT
END:VCALENDAR