BEGIN:VCALENDAR
VERSION:2.0
PRODID:-//hacksw/handcal//NONSGML v1.0//EN
CALSCALE:GREGORIAN
BEGIN:VEVENT
LOCATION:Barcelona
DESCRIPTION:
DTSTART:20230607T170000Z
DTEND:20230607T170000Z
SUMMARY:Club de Lectura: Antonio Turiel. "Sin energía. Pequeña guía para el Gran Descenso"
URL;VALUE=URI:https://arquitectes.cat/ca/content/club-de-lectura-antonio-turiel-sin-energ%C3%ADa-peque%C3%B1a-gu%C3%ADa-para-el-gran-descenso
DTSTAMP:20260426T014450Z
UID:69ed51f2d9eaf
END:VEVENT
END:VCALENDAR