BEGIN:VCALENDAR
VERSION:2.0
PRODID:-//hacksw/handcal//NONSGML v1.0//EN
CALSCALE:GREGORIAN
BEGIN:VEVENT
LOCATION:
DESCRIPTION:
DTSTART:20230519T173000Z
DTEND:20230519T173000Z
SUMMARY:Eleccions Municipals 2023. Debat a Vilafant
URL;VALUE=URI:https://arquitectes.cat/ca/content/eleccions-municipals-2023-debat-vilafant
DTSTAMP:20260419T151753Z
UID:69e4d6011fd77
END:VEVENT
END:VCALENDAR